BEGIN:VCALENDAR
VERSION:2.0
PRODID:-//Tukios.com/
BEGIN:VEVENT
UID:6c4de7a7-e9c2-4db8-a501-1667333aa32b@www.carlislefuneralhome.com
DTSTAMP:20260420T215922Z
DTSTART:20260421T150000Z
DTEND:20260421T160000Z
SUMMARY:Graveside Service
DESCRIPTION:
URL:https://www.carlislefuneralhome.com/obituaries/aldine-lewis
LOCATION:Greenwood Cemetery 1000 West Howard Avenue  Tarboro NC 27886
GEO:35.9033483;-77.5507889
END:VEVENT
END:VCALENDAR