BEGIN:VCALENDAR
VERSION:2.0
PRODID:-//Tukios.com/
BEGIN:VEVENT
UID:fcceaf9f-6637-4d5f-9c7d-0d0ddb23c1b0@www.carlislefuneralhome.com
DTSTAMP:20260420T170001Z
DTSTART:20260424T220000Z
DTEND:20260425T000000Z
SUMMARY:Visitation
DESCRIPTION:
URL:https://www.carlislefuneralhome.com/obituaries/madeline-rose
LOCATION:Carlisle Funeral Home 701 Hospital Dr  Tarboro NC 27886
GEO:35.9171587;-77.5607165
END:VEVENT
END:VCALENDAR