BEGIN:VCALENDAR
VERSION:2.0
PRODID:-//Tukios.com/
BEGIN:VEVENT
UID:ed1dea4a-28a6-492e-8288-b4b4527783a7@www.carlislefuneralhome.com
DTSTAMP:20260420T165203Z
DTSTART:20260425T150000Z
DTEND:20260425T160000Z
SUMMARY:Funeral Service
DESCRIPTION:
URL:https://www.carlislefuneralhome.com/obituaries/madeline-rose
LOCATION:Carlisle Funeral Home 701 Hospital Dr  Tarboro NC 27886
GEO:35.9171587;-77.5607165
END:VEVENT
END:VCALENDAR